BEGIN:VCALENDAR
VERSION:2.0
PRODID:-//Halo Gaia Adventure Travel - ECPv6.15.20//NONSGML v1.0//EN
CALSCALE:GREGORIAN
METHOD:PUBLISH
X-WR-CALNAME:Halo Gaia Adventure Travel
X-ORIGINAL-URL:https://halogaia.com
X-WR-CALDESC:Events for Halo Gaia Adventure Travel
REFRESH-INTERVAL;VALUE=DURATION:PT1H
X-Robots-Tag:noindex
X-PUBLISHED-TTL:PT1H
BEGIN:VTIMEZONE
TZID:Africa/Maputo
BEGIN:STANDARD
TZOFFSETFROM:+0200
TZOFFSETTO:+0200
TZNAME:CAT
DTSTART:20250101T000000
END:STANDARD
END:VTIMEZONE
BEGIN:VEVENT
DTSTART;VALUE=DATE:20260327
DTEND;VALUE=DATE:20260414
DTSTAMP:20260422T101551
CREATED:20251023T140259Z
LAST-MODIFIED:20251023T140259Z
UID:27586922-1774569600-1776124799@halogaia.com
SUMMARY:Seasonal Customized Holidays
DESCRIPTION:Custom Holiday Stays in Ponta Malongane\, Southern Mozambique \nEscape to paradise during school holidays\, vacations and long weekends with Halo Gaia’s Holiday Accommodation – a chance to experience the magic of Mozambique’s coast at your own pace. \nBetween our scheduled retreats\, we open select dates for customized holiday bookings\, ideal for families\, couples\, or small groups looking for a soulful beach escape. \nChoose from a range of accommodation options – from rustic forest chalets to luxury beachfront villas – and create your own adventure. Add experiences like scuba diving\, wild dolphin encounters\, sound journeys\, snorkelling\, whale watching (in season)\, or local culture tours. \nWhether it’s a long-weekend getaway\, a milestone celebration\, or simply time to breathe by the ocean\, Halo Gaia provides the space\, guidance\, and local connection to make your stay unforgettable. \n Recurring event with multiple holiday dates available.\nPlease contact us for current availability and seasonal pricing. \n Accommodation Options: Rustic | Luxury | Private Beach Houses\n Optional Add-ons: Dolphin Swims | Scuba Diving | Snorkelling | Sound Journeys | Whale Watching (Jul–Oct) | Cultural Tours
URL:https://halogaia.com/event/seasonal-customized-holidays-2/
LOCATION:Halo Gaia Adventure Travel\, Ponta do Ouro\,\, Mozambique
CATEGORIES:Dolphins,Holidays,Luxury,Rustic,Semi-Luxury
ATTACH;FMTTYPE=image/jpeg:https://halogaia.com/wp-content/uploads/2025/10/customized-holidays.jpg
ORGANIZER;CN="Halo Gaia Adventure Travel":MAILTO:explore@halogaia.com
END:VEVENT
END:VCALENDAR